BEGIN:VCALENDAR
VERSION:2.0
CALSCALE:GREGORIAN
BEGIN:VEVENT
DTSTAMP:20260424T062101
DTSTART:20260708T183000
DTEND:20260708T073000
SUMMARY:Opera Scenes With Manetti Shrem Opera Fellows  The Young People\'s Chorus
DESCRIPTION:Event Info: https://www.localwineevents.com/view/event/opera-scenes-with-manetti-shrem-opera-fellows-the-young-peoples-chorus/1001982
LOCATION:Jackson Family Wines Amphitheater at CIA at Copia -- 500 1st Street Napa, CA 94559
STATUS:CONFIRMED
SEQUENCE:0
TRANSP:OPAQUE
END:VEVENT
END:VCALENDAR
