BEGIN:VCALENDAR
VERSION:2.0
CALSCALE:GREGORIAN
BEGIN:VEVENT
DTSTAMP:20260423T135832
DTSTART:20260502T160000
DTEND:20260502T200000
SUMMARY:Derby Day At Unwined: Bourbon Tastings  Bubbly Flights
DESCRIPTION:Event Info: https://www.localwineevents.com/view/event/derby-day-at-unwined-bourbon-tastings-bubbly-flights/1001973
LOCATION:Unwine\'d -- 260 East Broad Street, Suite 130 Rochester, New York 14604
STATUS:CONFIRMED
SEQUENCE:0
TRANSP:OPAQUE
END:VEVENT
END:VCALENDAR
