BEGIN:VCALENDAR
VERSION:2.0
CALSCALE:GREGORIAN
BEGIN:VEVENT
DTSTAMP:20260423T135846
DTSTART:20260510T110000
DTEND:20260510T130000
SUMMARY:Mother\'s Day Brunch Buffet + Bottomless Bubbles
DESCRIPTION:Event Info: https://www.localwineevents.com/view/event/mothers-day-brunch-buffet-bottomless-bubbles/1001972
LOCATION:Unwine\'d -- 260 East Broad Street, Suite 130 Rochester, NY 14604
STATUS:CONFIRMED
SEQUENCE:0
TRANSP:OPAQUE
END:VEVENT
END:VCALENDAR
