BEGIN:VCALENDAR
VERSION:2.0
CALSCALE:GREGORIAN
BEGIN:VEVENT
DTSTAMP:20260423T135942
DTSTART:20260513T180000
DTEND:20260513T193000
SUMMARY:Talk Dirty To Me: A Wine  Soil Experience
DESCRIPTION:Event Info: https://www.localwineevents.com/view/event/talk-dirty-to-me-a-wine-soil-experience/1001971
LOCATION:Unwine\'d -- 260 E Broad St, Suite 130 Rochester, New York 14604
STATUS:CONFIRMED
SEQUENCE:0
TRANSP:OPAQUE
END:VEVENT
END:VCALENDAR
