BEGIN:VCALENDAR
VERSION:2.0
CALSCALE:GREGORIAN
BEGIN:VEVENT
DTSTAMP:20260421T184306
DTSTART:20260815T170000
DTEND:20260815T183000
SUMMARY:The Birthplace Of Rum - Discover The History Of Mount Gay Rum
DESCRIPTION:Event Info: https://www.localwineevents.com/view/event/the-birthplace-of-rum---discover-the-history-of-mount-gay-rum/1001968
LOCATION:Total Wine  More | Best Buy Plaza -- 9350 N. Central Expressway Dallas, Texas 75231
STATUS:CONFIRMED
SEQUENCE:0
TRANSP:OPAQUE
END:VEVENT
END:VCALENDAR
