BEGIN:VCALENDAR
VERSION:2.0
CALSCALE:GREGORIAN
BEGIN:VEVENT
DTSTAMP:20260421T183144
DTSTART:20260716T183000
DTEND:20260716T200000
SUMMARY:Catena Family Wines Wine First Tasting Class
DESCRIPTION:Event Info: https://www.localwineevents.com/view/event/catena-family-wines-wine-first-tasting-class/1001954
LOCATION:Total Wine  More | Best Buy Plaza -- 9350 N. Central Expressway Dallas, Texas 75231
STATUS:CONFIRMED
SEQUENCE:0
TRANSP:OPAQUE
END:VEVENT
END:VCALENDAR
