BEGIN:VCALENDAR
VERSION:2.0
CALSCALE:GREGORIAN
BEGIN:VEVENT
DTSTAMP:20260421T184552
DTSTART:20260718T170000
DTEND:20260718T183000
SUMMARY:Catena Family Wines Wine First Tasting Class
DESCRIPTION:Event Info: https://www.localwineevents.com/view/event/catena-family-wines-wine-first-tasting-class/1001953
LOCATION:Total Wine  More | The Highlands Shopping Center -- 981 Interstate 20 W. Arlington, Texas 76017
STATUS:CONFIRMED
SEQUENCE:0
TRANSP:OPAQUE
END:VEVENT
END:VCALENDAR
