BEGIN:VCALENDAR
VERSION:2.0
CALSCALE:GREGORIAN
BEGIN:VEVENT
DTSTAMP:20260421T100959
DTSTART:20260731T183000
DTEND:20260731T200000
SUMMARY:Going In BlindOur Wine Sampling Challenge
DESCRIPTION:Event Info: https://www.localwineevents.com/view/event/going-in-blindour-wine-sampling-challenge/1001938
LOCATION:Total Wine  More -- 9527 W. Pico Blvd. Los Angeles, California 90035
STATUS:CONFIRMED
SEQUENCE:0
TRANSP:OPAQUE
END:VEVENT
END:VCALENDAR
