BEGIN:VCALENDAR
VERSION:2.0
CALSCALE:GREGORIAN
BEGIN:VEVENT
DTSTAMP:20260421T100943
DTSTART:20260626T183000
DTEND:20260626T200000
SUMMARY:Southern Fried Wine
DESCRIPTION:Event Info: https://www.localwineevents.com/view/event/southern-fried-wine/1001937
LOCATION:Total Wine  More -- 9527 W. Pico Blvd. Los Angeles, California 90035
STATUS:CONFIRMED
SEQUENCE:0
TRANSP:OPAQUE
END:VEVENT
END:VCALENDAR
