BEGIN:VCALENDAR
VERSION:2.0
CALSCALE:GREGORIAN
BEGIN:VEVENT
DTSTAMP:20260421T101750
DTSTART:20260527T183000
DTEND:20260527T200000
SUMMARY:Kosher Sips  Slices: A Wine And Pizza Pairing Adventure
DESCRIPTION:Event Info: https://www.localwineevents.com/view/event/kosher-sips-slices-a-wine-and-pizza-pairing-adventure/1001936
LOCATION:Total Wine  More -- 9527 W. Pico Blvd. Los Angeles, California 90035
STATUS:CONFIRMED
SEQUENCE:0
TRANSP:OPAQUE
END:VEVENT
END:VCALENDAR
