BEGIN:VCALENDAR
VERSION:2.0
CALSCALE:GREGORIAN
BEGIN:VEVENT
DTSTAMP:20260421T100927
DTSTART:20260619T183000
DTEND:20260619T200000
SUMMARY:Battle Of The IPA\'s - West Coast Vs. East Coast
DESCRIPTION:Event Info: https://www.localwineevents.com/view/event/battle-of-the-ipas---west-coast-vs-east-coast/1001935
LOCATION:Total Wine  More -- 9527 W. Pico Blvd. Los Angeles, California 90035
STATUS:CONFIRMED
SEQUENCE:0
TRANSP:OPAQUE
END:VEVENT
END:VCALENDAR
