BEGIN:VCALENDAR
VERSION:2.0
CALSCALE:GREGORIAN
BEGIN:VEVENT
DTSTAMP:20260421T100942
DTSTART:20260604T183000
DTEND:20260604T200000
SUMMARY:A Ros Soire
DESCRIPTION:Event Info: https://www.localwineevents.com/view/event/a-ros-soire/1001934
LOCATION:Total Wine  More -- 9527 W. Pico Blvd. Los Angeles, California 90035
STATUS:CONFIRMED
SEQUENCE:0
TRANSP:OPAQUE
END:VEVENT
END:VCALENDAR
