BEGIN:VCALENDAR
VERSION:2.0
CALSCALE:GREGORIAN
BEGIN:VEVENT
DTSTAMP:20260421T183104
DTSTART:20260724T183000
DTEND:20260724T200000
SUMMARY:Maker\'s Mark Exploration Of Innovation
DESCRIPTION:Event Info: https://www.localwineevents.com/view/event/makers-mark-exploration-of-innovation/1001929
LOCATION:Total Wine  More | Best Buy Plaza -- 9350 N. Central Expressway Dallas, Texas 75231
STATUS:CONFIRMED
SEQUENCE:0
TRANSP:OPAQUE
END:VEVENT
END:VCALENDAR
