BEGIN:VCALENDAR
VERSION:2.0
CALSCALE:GREGORIAN
BEGIN:VEVENT
DTSTAMP:20260421T184510
DTSTART:20260814T183000
DTEND:20260814T200000
SUMMARY:Maker\'s Mark Exploration Of Innovation
DESCRIPTION:Event Info: https://www.localwineevents.com/view/event/makers-mark-exploration-of-innovation/1001916
LOCATION:Total Wine  More | The Highlands Shopping Center -- 981 Interstate 20 W. Arlington, Texas 76017
STATUS:CONFIRMED
SEQUENCE:0
TRANSP:OPAQUE
END:VEVENT
END:VCALENDAR
