BEGIN:VCALENDAR
VERSION:2.0
CALSCALE:GREGORIAN
BEGIN:VEVENT
DTSTAMP:20260420T133805
DTSTART:20260718T170000
DTEND:20260718T183000
SUMMARY:Grown With Purpose: River Road Family Vineyards And Winery
DESCRIPTION:Event Info: https://www.localwineevents.com/view/event/grown-with-purpose-river-road-family-vineyards-and-winery/1001900
LOCATION:Total Wine  More | Laguna Crossroads -- 7707 Laguna Blvd. Suite 140 Elk Grove, California 95758
STATUS:CONFIRMED
SEQUENCE:0
TRANSP:OPAQUE
END:VEVENT
END:VCALENDAR
