BEGIN:VCALENDAR
VERSION:2.0
CALSCALE:GREGORIAN
BEGIN:VEVENT
DTSTAMP:20260422T163931
DTSTART:20260730T183000
DTEND:20260730T200000
SUMMARY:Grown With Purpose: River Road Family Vineyards And Winery
DESCRIPTION:Event Info: https://www.localwineevents.com/view/event/grown-with-purpose-river-road-family-vineyards-and-winery/1001894
LOCATION:Total Wine  More | Triangle Plaza -- 6105 Capital Blvd Raleigh, North Carolina 27616
STATUS:CONFIRMED
SEQUENCE:0
TRANSP:OPAQUE
END:VEVENT
END:VCALENDAR
