BEGIN:VCALENDAR
VERSION:2.0
CALSCALE:GREGORIAN
BEGIN:VEVENT
DTSTAMP:20260421T101001
DTSTART:20260716T183000
DTEND:20260716T200000
SUMMARY:Steeped In Innovation: Where Tea Meets Wine With River Road Family Vineyards And Winery
DESCRIPTION:Event Info: https://www.localwineevents.com/view/event/steeped-in-innovation-where-tea-meets-wine-with-river-road-family-vineyards-and-winery/1001893
LOCATION:Total Wine  More -- 9527 W. Pico Blvd. Los Angeles, California 90035
STATUS:CONFIRMED
SEQUENCE:0
TRANSP:OPAQUE
END:VEVENT
END:VCALENDAR
