BEGIN:VCALENDAR
VERSION:2.0
CALSCALE:GREGORIAN
BEGIN:VEVENT
DTSTAMP:20260422T164713
DTSTART:20260729T183000
DTEND:20260729T200000
SUMMARY:Grown With Purpose: River Road Family Vineyards And Winery
DESCRIPTION:Event Info: https://www.localwineevents.com/view/event/grown-with-purpose-river-road-family-vineyards-and-winery/1001892
LOCATION:Total Wine  More | North Hills -- 4421 Six Forks Road Suite 111 Raleigh, North Carolina 27609
STATUS:CONFIRMED
SEQUENCE:0
TRANSP:OPAQUE
END:VEVENT
END:VCALENDAR
