BEGIN:VCALENDAR
VERSION:2.0
CALSCALE:GREGORIAN
BEGIN:VEVENT
DTSTAMP:20260421T125301
DTSTART:20260814T183000
DTEND:20260814T200000
SUMMARY:From Soil To Sip: The Oregon Wine Experience With  Kudos  Domaine Loubejac
DESCRIPTION:Event Info: https://www.localwineevents.com/view/event/from-soil-to-sip-the-oregon-wine-experience-with-kudos-domaine-loubejac/1001879
LOCATION:Total Wine  More | Clarkson Square -- 1781 Clarkson Rd Chesterfield, Missouri 63017
STATUS:CONFIRMED
SEQUENCE:0
TRANSP:OPAQUE
END:VEVENT
END:VCALENDAR
