BEGIN:VCALENDAR
VERSION:2.0
CALSCALE:GREGORIAN
BEGIN:VEVENT
DTSTAMP:20260420T133905
DTSTART:20260729T183000
DTEND:20260729T200000
SUMMARY:Sip And Savor With Caymus Vineyards
DESCRIPTION:Event Info: https://www.localwineevents.com/view/event/sip-and-savor-with-caymus-vineyards/1001869
LOCATION:Total Wine  More | Laguna Crossroads -- 7707 Laguna Blvd. Suite 140 Elk Grove, California 95758
STATUS:CONFIRMED
SEQUENCE:0
TRANSP:OPAQUE
END:VEVENT
END:VCALENDAR
