BEGIN:VCALENDAR
VERSION:2.0
CALSCALE:GREGORIAN
BEGIN:VEVENT
DTSTAMP:20260421T184419
DTSTART:20260716T183000
DTEND:20260716T200000
SUMMARY:Sip And Savor With Caymus Vineyards
DESCRIPTION:Event Info: https://www.localwineevents.com/view/event/sip-and-savor-with-caymus-vineyards/1001868
LOCATION:Total Wine  More | Preston Village Shopping Center -- 8700 Preston Rd Ste113 Plano, Texas 75024
STATUS:CONFIRMED
SEQUENCE:0
TRANSP:OPAQUE
END:VEVENT
END:VCALENDAR
