BEGIN:VCALENDAR
VERSION:2.0
CALSCALE:GREGORIAN
BEGIN:VEVENT
DTSTAMP:20260421T183231
DTSTART:20260813T183000
DTEND:20260813T200000
SUMMARY:Around The World With Alexander Murray
DESCRIPTION:Event Info: https://www.localwineevents.com/view/event/around-the-world-with-alexander-murray/1001866
LOCATION:Total Wine  More | Best Buy Plaza -- 9350 N. Central Expressway Dallas, Texas 75231
STATUS:CONFIRMED
SEQUENCE:0
TRANSP:OPAQUE
END:VEVENT
END:VCALENDAR
