BEGIN:VCALENDAR
VERSION:2.0
CALSCALE:GREGORIAN
BEGIN:VEVENT
DTSTAMP:20260421T183058
DTSTART:20260501T180000
DTEND:20260501T193000
SUMMARY:Mastering Agave: The Pantalones Tequila Experience
DESCRIPTION:Event Info: https://www.localwineevents.com/view/event/mastering-agave-the-pantalones-tequila-experience/1001863
LOCATION:Total Wine  More | The Village at Allen -- 190 East Stacy Road Allen, Texas 75002
STATUS:CONFIRMED
SEQUENCE:0
TRANSP:OPAQUE
END:VEVENT
END:VCALENDAR
