BEGIN:VCALENDAR
VERSION:2.0
CALSCALE:GREGORIAN
BEGIN:VEVENT
DTSTAMP:20260421T101000
DTSTART:20260813T183000
DTEND:20260813T200000
SUMMARY:Vina Carmen Winery-Led Tasting: A Journey Through Chiles Terroirs
DESCRIPTION:Event Info: https://www.localwineevents.com/view/event/vina-carmen-winery-led-tasting-a-journey-through-chiles-terroirs/1001858
LOCATION:Total Wine  More -- 9527 W. Pico Blvd. Los Angeles, California 90035
STATUS:CONFIRMED
SEQUENCE:0
TRANSP:OPAQUE
END:VEVENT
END:VCALENDAR
