BEGIN:VCALENDAR
VERSION:2.0
CALSCALE:GREGORIAN
BEGIN:VEVENT
DTSTAMP:20260421T132517
DTSTART:20260618T183000
DTEND:20260618T200000
SUMMARY:Wines For Summer
DESCRIPTION:Event Info: https://www.localwineevents.com/view/event/wines-for-summer/1001853
LOCATION:Total Wine  More | Candlewood Plaza Shopping Center -- 14 Candlewood Lake Rd Brookfield, Connecticut 06804
STATUS:CONFIRMED
SEQUENCE:0
TRANSP:OPAQUE
END:VEVENT
END:VCALENDAR
