BEGIN:VCALENDAR
VERSION:2.0
CALSCALE:GREGORIAN
BEGIN:VEVENT
DTSTAMP:20260421T183231
DTSTART:20260502T180000
DTEND:20260502T193000
SUMMARY:Mastering Agave: The Pantalones Tequila Experience
DESCRIPTION:Event Info: https://www.localwineevents.com/view/event/mastering-agave-the-pantalones-tequila-experience/1001842
LOCATION:Total Wine  More | Hulen Fashion Center -- 5200 S Hulen St Fort Worth, Texas 76132
STATUS:CONFIRMED
SEQUENCE:0
TRANSP:OPAQUE
END:VEVENT
END:VCALENDAR
