BEGIN:VCALENDAR
VERSION:2.0
CALSCALE:GREGORIAN
BEGIN:VEVENT
DTSTAMP:20260421T132625
DTSTART:20260618T183000
DTEND:20260618T200000
SUMMARY:Pio Cesare: A Family Story Since 1881
DESCRIPTION:Event Info: https://www.localwineevents.com/view/event/pio-cesare-a-family-story-since-1881/1001826
LOCATION:Total Wine  More | Totowa Square -- 465 US HWY 46 Totowa, New Jersey 07512
STATUS:CONFIRMED
SEQUENCE:0
TRANSP:OPAQUE
END:VEVENT
END:VCALENDAR
