BEGIN:VCALENDAR
VERSION:2.0
CALSCALE:GREGORIAN
BEGIN:VEVENT
DTSTAMP:20260420T100740
DTSTART:20260420T123000
DTEND:20260426T203000
SUMMARY:5 Wine  Food PAIRING MISTAKES That Can RUIN Your Dinner ;)
DESCRIPTION:Event Info: https://www.localwineevents.com/view/class/5-wine-food-pairing-mistakes-that-can-ruin-your-dinner-/1001824
LOCATION:
STATUS:CONFIRMED
SEQUENCE:0
TRANSP:OPAQUE
END:VEVENT
END:VCALENDAR
