BEGIN:VCALENDAR
VERSION:2.0
CALSCALE:GREGORIAN
BEGIN:VEVENT
DTSTAMP:20260423T135844
DTSTART:20260508T103000
DTEND:20260510T180000
SUMMARY:Mother\'s Day Wine And Food Pairing Experience
DESCRIPTION:Event Info: https://www.localwineevents.com/view/event/mothers-day-wine-and-food-pairing-experience/1001809
LOCATION:Domaine LeSeurre Winery -- 13920 NY-54 Hammondsport, NY 14840
STATUS:CONFIRMED
SEQUENCE:0
TRANSP:OPAQUE
END:VEVENT
END:VCALENDAR
