BEGIN:VCALENDAR
VERSION:2.0
CALSCALE:GREGORIAN
BEGIN:VEVENT
DTSTAMP:20260423T140136
DTSTART:20260505T173000
DTEND:20260505T190000
SUMMARY:Chocolate Lab For Chocoholics
DESCRIPTION:Event Info: https://www.localwineevents.com/view/event/chocolate-lab-for-chocoholics/1001800
LOCATION:GreenStar Food Co+op -- 770 Cascadilla Street Ithaca, NY 14850
STATUS:CONFIRMED
SEQUENCE:0
TRANSP:OPAQUE
END:VEVENT
END:VCALENDAR
