BEGIN:VCALENDAR
VERSION:2.0
CALSCALE:GREGORIAN
BEGIN:VEVENT
DTSTAMP:20260421T203404
DTSTART:20260505T090000
DTEND:20260505T150000
SUMMARY:4th Annual North Texas Grape And Wine Day With TWGGA Region II Meeting
DESCRIPTION:Event Info: https://www.localwineevents.com/view/event/4th-annual-north-texas-grape-and-wine-day-with-twgga-region-ii-meeting/1001799
LOCATION:Grayson College -- 6101 Grayson Drive Denison, TX 75020
STATUS:CONFIRMED
SEQUENCE:0
TRANSP:OPAQUE
END:VEVENT
END:VCALENDAR
