BEGIN:VCALENDAR
VERSION:2.0
CALSCALE:GREGORIAN
BEGIN:VEVENT
DTSTAMP:20260419T112123
DTSTART:20260505T093000
DTEND:20260505T180000
SUMMARY:Counter Culture Detroit
DESCRIPTION:Event Info: https://www.localwineevents.com/view/event/counter-culture-detroit/1001794
LOCATION:100 Proof by Detroit City Distillery -- 1000 Gratiot Avenue Detroit, MI 48207
STATUS:CONFIRMED
SEQUENCE:0
TRANSP:OPAQUE
END:VEVENT
END:VCALENDAR
