BEGIN:VCALENDAR
VERSION:2.0
CALSCALE:GREGORIAN
BEGIN:VEVENT
DTSTAMP:20260422T164626
DTSTART:20260505T150000
DTEND:20260505T190000
SUMMARY:Taste Of Downtown St Pete Food And History Walking Tour
DESCRIPTION:Event Info: https://www.localwineevents.com/view/event/taste-of-downtown-st-pete-food-and-history-walking-tour/1001787
LOCATION:Sundial Parking Garage -- 117 2nd Street North St. Petersburg, FL 33701
STATUS:CONFIRMED
SEQUENCE:0
TRANSP:OPAQUE
END:VEVENT
END:VCALENDAR
