BEGIN:VCALENDAR
VERSION:2.0
CALSCALE:GREGORIAN
BEGIN:VEVENT
DTSTAMP:20260421T141347
DTSTART:20260505T190000
DTEND:20260505T210000
SUMMARY:Cinco De Mayo Tequila Tasting Featuring Rey Supremo
DESCRIPTION:Event Info: https://www.localwineevents.com/view/event/cinco-de-mayo-tequila-tasting-featuring-rey-supremo/1001786
LOCATION:Beeline - Easton Town Center -- 3989 Merchants Row Columbus, OH 43219
STATUS:CONFIRMED
SEQUENCE:0
TRANSP:OPAQUE
END:VEVENT
END:VCALENDAR
