BEGIN:VCALENDAR
VERSION:2.0
CALSCALE:GREGORIAN
BEGIN:VEVENT
DTSTAMP:20260422T192714
DTSTART:20260505T180000
DTEND:20260505T200000
SUMMARY:Educational Seminar:  Del Dotto
DESCRIPTION:Event Info: https://www.localwineevents.com/view/event/educational-seminar-del-dotto/1001783
LOCATION:Cool Springs Wines  Spirits -- 1935 Mallory Lane Franklin, TN 37067
STATUS:CONFIRMED
SEQUENCE:0
TRANSP:OPAQUE
END:VEVENT
END:VCALENDAR
