BEGIN:VCALENDAR
VERSION:2.0
CALSCALE:GREGORIAN
BEGIN:VEVENT
DTSTAMP:20260421T163955
DTSTART:20260505T180000
DTEND:20260505T200000
SUMMARY:Hands-On: Tagliatelle Alla Bolognese
DESCRIPTION:Event Info: https://www.localwineevents.com/view/event/hands-on-tagliatelle-alla-bolognese/1001768
LOCATION:Eataly Dallas -- 8687 North Central Expressway Dallas, TX 75225
STATUS:CONFIRMED
SEQUENCE:0
TRANSP:OPAQUE
END:VEVENT
END:VCALENDAR
