BEGIN:VCALENDAR
VERSION:2.0
CALSCALE:GREGORIAN
BEGIN:VEVENT
DTSTAMP:20260421T162932
DTSTART:20260505T190000
DTEND:20260505T210000
SUMMARY:Make Sushi With Chef Sarah - Sushi Making Cooking Class In Portland | Classpop!
DESCRIPTION:Event Info: https://www.localwineevents.com/view/event/make-sushi-with-chef-sarah---sushi-making-cooking-class-in-portland-classpop/1001765
LOCATION:Cup of Tea -- 10117 SE Sunnyside Rd Suite J, Clackamas, OR 97015 Portland, OR 97204
STATUS:CONFIRMED
SEQUENCE:0
TRANSP:OPAQUE
END:VEVENT
END:VCALENDAR
