BEGIN:VCALENDAR
VERSION:2.0
CALSCALE:GREGORIAN
BEGIN:VEVENT
DTSTAMP:20260422T211629
DTSTART:20260505T180000
DTEND:20260505T200000
SUMMARY:Cinco De Mayo  - Maridaje De Cerveza
DESCRIPTION:Event Info: https://www.localwineevents.com/view/event/cinco-de-mayo---maridaje-de-cerveza/1001761
LOCATION:Great Basin Brewing Company ~ Reno -- 5525 South Virginia Street Reno, NV 89502
STATUS:CONFIRMED
SEQUENCE:0
TRANSP:OPAQUE
END:VEVENT
END:VCALENDAR
