BEGIN:VCALENDAR
VERSION:2.0
CALSCALE:GREGORIAN
BEGIN:VEVENT
DTSTAMP:20260420T114838
DTSTART:20260505T183000
DTEND:20260505T210000
SUMMARY:MySOMM + Chef\'s Table Winemaker Dinner: Bonfadini Franciacorta (Italy)
DESCRIPTION:Event Info: https://www.localwineevents.com/view/event/mysomm-chefs-table-winemaker-dinner-bonfadini-franciacorta-italy/1001746
LOCATION:The Clocktower Kitchen + Bar -- 101 South Chillicothe Street Plain City, OH 43064
STATUS:CONFIRMED
SEQUENCE:0
TRANSP:OPAQUE
END:VEVENT
END:VCALENDAR
