BEGIN:VCALENDAR
VERSION:2.0
CALSCALE:GREGORIAN
BEGIN:VEVENT
DTSTAMP:20260420T105951
DTSTART:20260505T180000
DTEND:20260505T210000
SUMMARY:Spring Wine And Cheese Pairing!
DESCRIPTION:Event Info: https://www.localwineevents.com/view/event/spring-wine-and-cheese-pairing/1001744
LOCATION:Savor Pint -- 4440 Indianola Avenue Columbus, OH 43214
STATUS:CONFIRMED
SEQUENCE:0
TRANSP:OPAQUE
END:VEVENT
END:VCALENDAR
