BEGIN:VCALENDAR
VERSION:2.0
CALSCALE:GREGORIAN
BEGIN:VEVENT
DTSTAMP:20260419T122601
DTSTART:20260424T193000
DTEND:20260424T223000
SUMMARY:Save $15 Las Olas Wine And Food Festival April 24, 2026
DESCRIPTION:Event Info: https://www.localwineevents.com/view/event/save-15-las-olas-wine-and-food-festival-april-24-2026/1001740
LOCATION:2026 Las Olas Wine and Food Festival -- SE 6th Avenue - SE 11th Avenue Fort Lauderdale, Florida 33301
STATUS:CONFIRMED
SEQUENCE:0
TRANSP:OPAQUE
END:VEVENT
END:VCALENDAR
