BEGIN:VCALENDAR
VERSION:2.0
CALSCALE:GREGORIAN
BEGIN:VEVENT
DTSTAMP:20260421T163034
DTSTART:20260621T113000
DTEND:20260621T163000
SUMMARY:Father\'s Day Wine  Beer Festival
DESCRIPTION:Event Info: https://www.localwineevents.com/view/event/fathers-day-wine-beer-festival/1001734
LOCATION:Willamette Valley Vineyards -- 8800 Enchanted Way SE Turner, OR 97392
STATUS:CONFIRMED
SEQUENCE:0
TRANSP:OPAQUE
END:VEVENT
END:VCALENDAR
