BEGIN:VCALENDAR
VERSION:2.0
CALSCALE:GREGORIAN
BEGIN:VEVENT
DTSTAMP:20260421T161800
DTSTART:20260502T140000
DTEND:20260502T190000
SUMMARY:Small Lot Sessions At Resolu Cellars - Copious Cellars
DESCRIPTION:Event Info: https://www.localwineevents.com/view/event/small-lot-sessions-at-resolu-cellars---copious-cellars/1001695
LOCATION:Resolu Cellars -- 262 SE 4th Ave Hillsboro, Oregon 97123
STATUS:CONFIRMED
SEQUENCE:0
TRANSP:OPAQUE
END:VEVENT
END:VCALENDAR
