BEGIN:VCALENDAR
VERSION:2.0
CALSCALE:GREGORIAN
BEGIN:VEVENT
DTSTAMP:20260419T111323
DTSTART:20260425T150000
DTEND:20260425T170000
SUMMARY:L\'apero At Candela !
DESCRIPTION:Event Info: https://www.localwineevents.com/view/event/lapero-at-candela-/1001693
LOCATION:Candela -- 3564 W. Vernor Hwy Detroit, MI 48216
STATUS:CONFIRMED
SEQUENCE:0
TRANSP:OPAQUE
END:VEVENT
END:VCALENDAR
