BEGIN:VCALENDAR
VERSION:2.0
CALSCALE:GREGORIAN
BEGIN:VEVENT
DTSTAMP:20260421T161708
DTSTART:20260502T160000
DTEND:20260502T180000
SUMMARY:Two Bit Brothers LIVE At Aurora Vineyards
DESCRIPTION:Event Info: https://www.localwineevents.com/view/event/two-bit-brothers-live-at-aurora-vineyards/1001685
LOCATION:Aurora Vineyards -- 21338 Oak Ln NE Aurora, OR 97002
STATUS:CONFIRMED
SEQUENCE:0
TRANSP:OPAQUE
END:VEVENT
END:VCALENDAR
