BEGIN:VCALENDAR
VERSION:2.0
CALSCALE:GREGORIAN
BEGIN:VEVENT
DTSTAMP:20260421T162932
DTSTART:20260501T180000
DTEND:20260501T200000
SUMMARY:Steve  Margot Band LIVE At Aurora Vineyards
DESCRIPTION:Event Info: https://www.localwineevents.com/view/event/steve-margot-band-live-at-aurora-vineyards/1001684
LOCATION:Aurora Vineyards -- 21338 Oak Ln NE Aurora, OR 97002
STATUS:CONFIRMED
SEQUENCE:0
TRANSP:OPAQUE
END:VEVENT
END:VCALENDAR
