BEGIN:VCALENDAR
VERSION:2.0
CALSCALE:GREGORIAN
BEGIN:VEVENT
DTSTAMP:20260421T162933
DTSTART:20260425T160000
DTEND:20260425T180000
SUMMARY:Sarah Lodge LIVE At Aurora Vineyards
DESCRIPTION:Event Info: https://www.localwineevents.com/view/event/sarah-lodge-live-at-aurora-vineyards/1001683
LOCATION:Aurora Vineyards -- 21338 Oak Ln NE Aurora, OR 97002
STATUS:CONFIRMED
SEQUENCE:0
TRANSP:OPAQUE
END:VEVENT
END:VCALENDAR
