BEGIN:VCALENDAR
VERSION:2.0
CALSCALE:GREGORIAN
BEGIN:VEVENT
DTSTAMP:20260421T161802
DTSTART:20260424T180000
DTEND:20260424T200000
SUMMARY:Michele Van Kleef LIVE At Aurora Vineyards
DESCRIPTION:Event Info: https://www.localwineevents.com/view/event/michele-van-kleef-live-at-aurora-vineyards/1001682
LOCATION:Aurora Vineyards -- 21338 Oak Ln NE Aurora, OR 97002
STATUS:CONFIRMED
SEQUENCE:0
TRANSP:OPAQUE
END:VEVENT
END:VCALENDAR
