BEGIN:VCALENDAR
VERSION:2.0
CALSCALE:GREGORIAN
BEGIN:VEVENT
DTSTAMP:20260420T213504
DTSTART:20260508T190000
DTEND:20260508T210000
SUMMARY:Barrel Room Sessions At Carr Winery ~ David Segall Trio 5.8.26
DESCRIPTION:Event Info: https://www.localwineevents.com/view/event/barrel-room-sessions-at-carr-winery-david-segall-trio-5826/1001677
LOCATION:Carr Winery -- 414 N Salsipuedes St. Santa Barbara, CA 93103
STATUS:CONFIRMED
SEQUENCE:0
TRANSP:OPAQUE
END:VEVENT
END:VCALENDAR
