BEGIN:VCALENDAR
VERSION:2.0
CALSCALE:GREGORIAN
BEGIN:VEVENT
DTSTAMP:20260420T212305
DTSTART:20260501T190000
DTEND:20260501T210000
SUMMARY:Barrel Room Sessions At Carr Winery ~ TD Lind  The Aviators 5.1.26
DESCRIPTION:Event Info: https://www.localwineevents.com/view/event/barrel-room-sessions-at-carr-winery-td-lind-the-aviators-5126/1001676
LOCATION:Carr Winery -- 414 N Salsipuedes St. Santa Barbara, CA 93103
STATUS:CONFIRMED
SEQUENCE:0
TRANSP:OPAQUE
END:VEVENT
END:VCALENDAR
